BEGIN:VCALENDAR
VERSION:2.0
PRODID:-//Durleigh Parish Council//Meeting Calendar//EN
CALSCALE:GREGORIAN
METHOD:PUBLISH
BEGIN:VEVENT
UID:71458-20271111@durleighparishcouncil.gov.uk
DTSTAMP:20260421T163055Z
DTSTART;VALUE=DATE:20271111
DTEND;VALUE=DATE:20271112
SUMMARY:Council Meeting &#8211\\; 11th November 2027
DESCRIPTION:Full Council Meeting\nView details: https://durleighparishcouncil.gov.uk/meetings/council-meeting-11th-september-2027/
URL:https://durleighparishcouncil.gov.uk/meetings/council-meeting-11th-september-2027/
END:VEVENT
END:VCALENDAR
