BEGIN:VCALENDAR
VERSION:2.0
PRODID:-//Durleigh Parish Council//Meeting Calendar//EN
CALSCALE:GREGORIAN
METHOD:PUBLISH
BEGIN:VEVENT
UID:71456-20270909@durleighparishcouncil.gov.uk
DTSTAMP:20260421T151913Z
DTSTART;VALUE=DATE:20270909
DTEND;VALUE=DATE:20270910
SUMMARY:Council Meeting &#8211\\; 9th September 2027
DESCRIPTION:Full Council Meeting\nView details: https://durleighparishcouncil.gov.uk/meetings/council-meeting-9th-september-2027/
URL:https://durleighparishcouncil.gov.uk/meetings/council-meeting-9th-september-2027/
END:VEVENT
END:VCALENDAR
