BEGIN:VCALENDAR
VERSION:2.0
PRODID:-//Durleigh Parish Council//Meeting Calendar//EN
CALSCALE:GREGORIAN
METHOD:PUBLISH
BEGIN:VEVENT
UID:71454-20270708@durleighparishcouncil.gov.uk
DTSTAMP:20260421T140605Z
DTSTART;VALUE=DATE:20270708
DTEND;VALUE=DATE:20270709
SUMMARY:Council Meeting &#8211\\; 8th July 2027
DESCRIPTION:Full Council Meeting\nView details: https://durleighparishcouncil.gov.uk/meetings/council-meeting-8th-july-2027/
URL:https://durleighparishcouncil.gov.uk/meetings/council-meeting-8th-july-2027/
END:VEVENT
END:VCALENDAR
