BEGIN:VCALENDAR
VERSION:2.0
PRODID:-//Durleigh Parish Council//Meeting Calendar//EN
CALSCALE:GREGORIAN
METHOD:PUBLISH
BEGIN:VEVENT
UID:71452-20270513@durleighparishcouncil.gov.uk
DTSTAMP:20260421T125327Z
DTSTART;VALUE=DATE:20270513
DTEND;VALUE=DATE:20270514
SUMMARY:Council Meeting &#8211\\; 13th May 2027
DESCRIPTION:Full Council Meeting\nView details: https://durleighparishcouncil.gov.uk/meetings/council-meeting-13th-may-2027/
URL:https://durleighparishcouncil.gov.uk/meetings/council-meeting-13th-may-2027/
END:VEVENT
END:VCALENDAR
