BEGIN:VCALENDAR
VERSION:2.0
PRODID:-//Durleigh Parish Council//Meeting Calendar//EN
CALSCALE:GREGORIAN
METHOD:PUBLISH
BEGIN:VEVENT
UID:71450-20270311@durleighparishcouncil.gov.uk
DTSTAMP:20260421T113303Z
DTSTART;VALUE=DATE:20270311
DTEND;VALUE=DATE:20270312
SUMMARY:Council Meeting &#8211\\; 11th March 2027
DESCRIPTION:Full Council Meeting\nView details: https://durleighparishcouncil.gov.uk/meetings/council-meeting-11th-march-2027/
URL:https://durleighparishcouncil.gov.uk/meetings/council-meeting-11th-march-2027/
END:VEVENT
END:VCALENDAR
