BEGIN:VCALENDAR
VERSION:2.0
PRODID:-//Durleigh Parish Council//Meeting Calendar//EN
CALSCALE:GREGORIAN
METHOD:PUBLISH
BEGIN:VEVENT
UID:71448-20270114@durleighparishcouncil.gov.uk
DTSTAMP:20260421T101413Z
DTSTART;VALUE=DATE:20270114
DTEND;VALUE=DATE:20270115
SUMMARY:Council Meeting &#8211\\; 14th January 2027
DESCRIPTION:Full Council Meeting\nView details: https://durleighparishcouncil.gov.uk/meetings/council-meeting-14th-january-2027/
URL:https://durleighparishcouncil.gov.uk/meetings/council-meeting-14th-january-2027/
END:VEVENT
END:VCALENDAR
