BEGIN:VCALENDAR
VERSION:2.0
PRODID:-//Durleigh Parish Council//Meeting Calendar//EN
CALSCALE:GREGORIAN
METHOD:PUBLISH
BEGIN:VEVENT
UID:71034-20261112@durleighparishcouncil.gov.uk
DTSTAMP:20260421T084514Z
DTSTART;VALUE=DATE:20261112
DTEND;VALUE=DATE:20261113
SUMMARY:Council Meeting &#8211\\; 12th November 2026
DESCRIPTION:Full Council Meeting\nView details: https://durleighparishcouncil.gov.uk/meetings/council-meeting-12th-november-2026/
URL:https://durleighparishcouncil.gov.uk/meetings/council-meeting-12th-november-2026/
END:VEVENT
END:VCALENDAR
