BEGIN:VCALENDAR
VERSION:2.0
PRODID:-//Durleigh Parish Council//Meeting Calendar//EN
CALSCALE:GREGORIAN
METHOD:PUBLISH
BEGIN:VEVENT
UID:71032-20260910@durleighparishcouncil.gov.uk
DTSTAMP:20260421T101530Z
DTSTART;VALUE=DATE:20260910
DTEND;VALUE=DATE:20260911
SUMMARY:Council Meeting &#8211\\; 10th September 2026
DESCRIPTION:Full Council Meeting\nView details: https://durleighparishcouncil.gov.uk/meetings/council-meeting-10th-september-2026/
URL:https://durleighparishcouncil.gov.uk/meetings/council-meeting-10th-september-2026/
END:VEVENT
END:VCALENDAR
