BEGIN:VCALENDAR
VERSION:2.0
PRODID:-//Durleigh Parish Council//Meeting Calendar//EN
CALSCALE:GREGORIAN
METHOD:PUBLISH
BEGIN:VEVENT
UID:71028-20260514@durleighparishcouncil.gov.uk
DTSTAMP:20260420T014323Z
DTSTART;VALUE=DATE:20260514
DTEND;VALUE=DATE:20260515
SUMMARY:Council Meeting &#8211\\; 14th May 2026
DESCRIPTION:Full Council Meeting\nView details: https://durleighparishcouncil.gov.uk/meetings/council-meeting-14th-may-2026/
URL:https://durleighparishcouncil.gov.uk/meetings/council-meeting-14th-may-2026/
END:VEVENT
END:VCALENDAR
