BEGIN:VCALENDAR
VERSION:2.0
PRODID:-//Durleigh Parish Council//Meeting Calendar//EN
CALSCALE:GREGORIAN
METHOD:PUBLISH
BEGIN:VEVENT
UID:70609-20250508@durleighparishcouncil.gov.uk
DTSTAMP:20260421T154619Z
DTSTART;VALUE=DATE:20250508
DTEND;VALUE=DATE:20250509
SUMMARY:Council Meeting &#8211\\; 8th May 2025
DESCRIPTION:Full Council Meeting\nView details: https://durleighparishcouncil.gov.uk/meetings/council-meeting-8th-may-2025/
URL:https://durleighparishcouncil.gov.uk/meetings/council-meeting-8th-may-2025/
END:VEVENT
END:VCALENDAR
