BEGIN:VCALENDAR
VERSION:2.0
PRODID:-//Durleigh Parish Council//Meeting Calendar//EN
CALSCALE:GREGORIAN
METHOD:PUBLISH
BEGIN:VEVENT
UID:70607-20250313@durleighparishcouncil.gov.uk
DTSTAMP:20260421T142004Z
DTSTART;VALUE=DATE:20250313
DTEND;VALUE=DATE:20250314
SUMMARY:Council Meeting &#8211\\; 13th March 2025
DESCRIPTION:Full Council Meeting\nView details: https://durleighparishcouncil.gov.uk/meetings/council-meeting-13th-march-2025/
URL:https://durleighparishcouncil.gov.uk/meetings/council-meeting-13th-march-2025/
END:VEVENT
END:VCALENDAR
