BEGIN:VCALENDAR
VERSION:2.0
PRODID:-//Durleigh Parish Council//Meeting Calendar//EN
CALSCALE:GREGORIAN
METHOD:PUBLISH
BEGIN:VEVENT
UID:70603-20241114@durleighparishcouncil.gov.uk
DTSTAMP:20260421T114249Z
DTSTART;VALUE=DATE:20241114
DTEND;VALUE=DATE:20241115
SUMMARY:Council Meeting &#8211\\; 14th November 2024
DESCRIPTION:Full Council Meeting\nView details: https://durleighparishcouncil.gov.uk/meetings/council-meeting-14th-november-2024/
URL:https://durleighparishcouncil.gov.uk/meetings/council-meeting-14th-november-2024/
END:VEVENT
END:VCALENDAR
