BEGIN:VCALENDAR
VERSION:2.0
PRODID:-//Durleigh Parish Council//Meeting Calendar//EN
CALSCALE:GREGORIAN
METHOD:PUBLISH
BEGIN:VEVENT
UID:70597-20240516@durleighparishcouncil.gov.uk
DTSTAMP:20260421T101627Z
DTSTART;VALUE=DATE:20240516
DTEND;VALUE=DATE:20240517
SUMMARY:Council Meeting &#8211\\; 16th May 2024
DESCRIPTION:Full Council Meeting\nView details: https://durleighparishcouncil.gov.uk/meetings/council-meeting-16th-may-2024/
URL:https://durleighparishcouncil.gov.uk/meetings/council-meeting-16th-may-2024/
END:VEVENT
END:VCALENDAR
