BEGIN:VCALENDAR
VERSION:2.0
PRODID:-//Durleigh Parish Council//Meeting Calendar//EN
CALSCALE:GREGORIAN
METHOD:PUBLISH
BEGIN:VEVENT
UID:70595-20240314@durleighparishcouncil.gov.uk
DTSTAMP:20260421T114250Z
DTSTART;VALUE=DATE:20240314
DTEND;VALUE=DATE:20240315
SUMMARY:Council Meeting &#8211\\; 14th March 2024
DESCRIPTION:Full Council Meeting\nView details: https://durleighparishcouncil.gov.uk/meetings/council-meeting-14th-march-2024/
URL:https://durleighparishcouncil.gov.uk/meetings/council-meeting-14th-march-2024/
END:VEVENT
END:VCALENDAR
