BEGIN:VCALENDAR
VERSION:2.0
PRODID:-//Durleigh Parish Council//Meeting Calendar//EN
CALSCALE:GREGORIAN
METHOD:PUBLISH
BEGIN:VEVENT
UID:70593-20240111@durleighparishcouncil.gov.uk
DTSTAMP:20260421T125233Z
DTSTART;VALUE=DATE:20240111
DTEND;VALUE=DATE:20240112
SUMMARY:Council Meeting &#8211\\; 11th January 2024
DESCRIPTION:Full Council Meeting\nView details: https://durleighparishcouncil.gov.uk/meetings/council-meeting-11th-january-2024/
URL:https://durleighparishcouncil.gov.uk/meetings/council-meeting-11th-january-2024/
END:VEVENT
END:VCALENDAR
