BEGIN:VCALENDAR
VERSION:2.0
PRODID:-//Durleigh Parish Council//Meeting Calendar//EN
CALSCALE:GREGORIAN
METHOD:PUBLISH
BEGIN:VEVENT
UID:70351-20230119@durleighparishcouncil.gov.uk
DTSTAMP:20260421T101114Z
DTSTART;VALUE=DATE:20230119
DTEND;VALUE=DATE:20230120
SUMMARY:Council Meeting &#8211\\; 19th January 2023
DESCRIPTION:Full Council Meeting\nView details: https://durleighparishcouncil.gov.uk/meetings/council-meeting-19th-january-2023/
URL:https://durleighparishcouncil.gov.uk/meetings/council-meeting-19th-january-2023/
END:VEVENT
END:VCALENDAR
