BEGIN:VCALENDAR
VERSION:2.0
PRODID:-//Durleigh Parish Council//Meeting Calendar//EN
CALSCALE:GREGORIAN
METHOD:PUBLISH
BEGIN:VEVENT
UID:70348-20230316@durleighparishcouncil.gov.uk
DTSTAMP:20260421T084525Z
DTSTART;VALUE=DATE:20230316
DTEND;VALUE=DATE:20230317
SUMMARY:Council Meeting &#8211\\; 16th March 2023
DESCRIPTION:Full Council Meeting\nView details: https://durleighparishcouncil.gov.uk/meetings/council-meeting-16th-march-2023/
URL:https://durleighparishcouncil.gov.uk/meetings/council-meeting-16th-march-2023/
END:VEVENT
END:VCALENDAR
