BEGIN:VCALENDAR
VERSION:2.0
PRODID:-//Durleigh Parish Council//Meeting Calendar//EN
CALSCALE:GREGORIAN
METHOD:PUBLISH
BEGIN:VEVENT
UID:70345-20230525@durleighparishcouncil.gov.uk
DTSTAMP:20260421T100957Z
DTSTART;VALUE=DATE:20230525
DTEND;VALUE=DATE:20230526
SUMMARY:Council Meeting &#8211\\; 25th May 2023
DESCRIPTION:Full Council Meeting\nView details: https://durleighparishcouncil.gov.uk/meetings/council-meeting-25th-may-2023/
URL:https://durleighparishcouncil.gov.uk/meetings/council-meeting-25th-may-2023/
END:VEVENT
END:VCALENDAR
