BEGIN:VCALENDAR
VERSION:2.0
PRODID:-//Durleigh Parish Council//Meeting Calendar//EN
CALSCALE:GREGORIAN
METHOD:PUBLISH
BEGIN:VEVENT
UID:70342-20230713@durleighparishcouncil.gov.uk
DTSTAMP:20260421T113007Z
DTSTART;VALUE=DATE:20230713
DTEND;VALUE=DATE:20230714
SUMMARY:Council Meeting &#8211\\; 13th July 2023
DESCRIPTION:Full Council Meeting\nView details: https://durleighparishcouncil.gov.uk/meetings/council-meeting-13th-july-2023/
URL:https://durleighparishcouncil.gov.uk/meetings/council-meeting-13th-july-2023/
END:VEVENT
END:VCALENDAR
