BEGIN:VCALENDAR
VERSION:2.0
PRODID:-//Durleigh Parish Council//Meeting Calendar//EN
CALSCALE:GREGORIAN
METHOD:PUBLISH
BEGIN:VEVENT
UID:70339-20230914@durleighparishcouncil.gov.uk
DTSTAMP:20260421T125552Z
DTSTART;VALUE=DATE:20230914
DTEND;VALUE=DATE:20230915
SUMMARY:Council Meeting &#8211\\; 14th September 2023
DESCRIPTION:Full Council Meeting\nView details: https://durleighparishcouncil.gov.uk/meetings/council-meeting-14th-september-2023/
URL:https://durleighparishcouncil.gov.uk/meetings/council-meeting-14th-september-2023/
END:VEVENT
END:VCALENDAR
