BEGIN:VCALENDAR
VERSION:2.0
PRODID:-//Durleigh Parish Council//Meeting Calendar//EN
CALSCALE:GREGORIAN
METHOD:PUBLISH
BEGIN:VEVENT
UID:70172-20231109@durleighparishcouncil.gov.uk
DTSTAMP:20260421T141922Z
DTSTART;VALUE=DATE:20231109
DTEND;VALUE=DATE:20231110
SUMMARY:Council Meeting &#8211\\; 9th November 2023
DESCRIPTION:Full Council Meeting\nView details: https://durleighparishcouncil.gov.uk/meetings/council-meeting-th-month-yyyy/
URL:https://durleighparishcouncil.gov.uk/meetings/council-meeting-th-month-yyyy/
END:VEVENT
END:VCALENDAR
